Workbook

Sheet Trades
A1: Date | B1: Ticker | C1: Side | D1: Qty | E1: Multiplier | F1: Entry | G1: Exit | H1: Fees | I1: Gross P&L | J1: Net P&L | K1: Risk | L1: R | M1: Setup | N1: Exit reason | O1: Notes
A2: 2026-01-05 | B2: AAPL | C2: Long | D2: 100 | E2: 1 | F2: 189.4 | G2: 193.1 | H2: 2 | I2: =IF($B2="","",IF($C2="Short",($F2-$G2),($G2-$F2))*$D2*$E2) | J2: =IF($B2="","",$I2-$H2) | K2: 290 | L2: =IF(OR($B2="",$K2=0,$K2=""),"",$J2/$K2) | M2: Breakout | N2: Target hit
A3: 2026-01-07 | B3: SPY | C3: Long | D3: 4 | E3: 100 | F3: 4.05 | G3: 2.3 | H3: 5.2 | I3: =IF($B3="","",IF($C3="Short",($F3-$G3),($G3-$F3))*$D3*$E3) | J3: =IF($B3="","",$I3-$H3) | K3: 1620 | L3: =IF(OR($B3="",$K3=0,$K3=""),"",$J3/$K3) | M3: Fade | N3: Stopped out | O3: Chased the entry
A4: 2026-01-12 | B4: MSFT | C4: Long | D4: 50 | E4: 1 | F4: 402.1 | G4: 393.2 | H4: 2 | I4: =IF($B4="","",IF($C4="Short",($F4-$G4),($G4-$F4))*$D4*$E4) | J4: =IF($B4="","",$I4-$H4) | K4: 455 | L4: =IF(OR($B4="",$K4=0,$K4=""),"",$J4/$K4) | M4: Breakout | N4: Stopped out
A5: 2026-01-15 | B5: NVDA | C5: Long | D5: 2 | E5: 100 | F5: 6.2 | G5: 9.45 | H5: 2.6 | I5: =IF($B5="","",IF($C5="Short",($F5-$G5),($G5-$F5))*$D5*$E5) | J5: =IF($B5="","",$I5-$H5) | K5: 1240 | L5: =IF(OR($B5="",$K5=0,$K5=""),"",$J5/$K5) | M5: Breakout | N5: Target hit
A6: 2026-01-19 | B6: SPY | C6: Short | D6: 2 | E6: 100 | F6: 3.8 | G6: 5.1 | H6: 2.6 | I6: =IF($B6="","",IF($C6="Short",($F6-$G6),($G6-$F6))*$D6*$E6) | J6: =IF($B6="","",$I6-$H6) | K6: 340 | L6: =IF(OR($B6="",$K6=0,$K6=""),"",$J6/$K6) | M6: Fade | N6: Stopped out | O6: Held through news
A7: 2026-01-22 | B7: TSLA | C7: Long | D7: 30 | E7: 1 | F7: 238.9 | G7: 244.2 | H7: 2 | I7: =IF($B7="","",IF($C7="Short",($F7-$G7),($G7-$F7))*$D7*$E7) | J7: =IF($B7="","",$I7-$H7) | K7: 177 | L7: =IF(OR($B7="",$K7=0,$K7=""),"",$J7/$K7) | M7: Breakout | N7: Trailed out
A8: 2026-01-26 | B8: QQQ | C8: Long | D8: 2 | E8: 100 | F8: 5.5 | G8: 6.1 | H8: 2.6 | I8: =IF($B8="","",IF($C8="Short",($F8-$G8),($G8-$F8))*$D8*$E8) | J8: =IF($B8="","",$I8-$H8) | K8: 1100 | L8: =IF(OR($B8="",$K8=0,$K8=""),"",$J8/$K8) | M8: Fade | N8: Target hit
A9: 2026-02-02 | B9: AMD | C9: Long | D9: 80 | E9: 1 | F9: 171.25 | G9: 176.6 | H9: 2 | I9: =IF($B9="","",IF($C9="Short",($F9-$G9),($G9-$F9))*$D9*$E9) | J9: =IF($B9="","",$I9-$H9) | K9: 340 | L9: =IF(OR($B9="",$K9=0,$K9=""),"",$J9/$K9) | M9: Breakout | N9: Target hit
A10: 2026-02-05 | B10: SPY | C10: Short | D10: 2 | E10: 100 | F10: 2.95 | G10: 2.1 | H10: 2.6 | I10: =IF($B10="","",IF($C10="Short",($F10-$G10),($G10-$F10))*$D10*$E10) | J10: =IF($B10="","",$I10-$H10) | K10: 210 | L10: =IF(OR($B10="",$K10=0,$K10=""),"",$J10/$K10) | M10: Fade | N10: Covered early
A11: 2026-02-09 | B11: META | C11: Long | D11: 25 | E11: 1 | F11: 612.4 | G11: 603.9 | H11: 2 | I11: =IF($B11="","",IF($C11="Short",($F11-$G11),($G11-$F11))*$D11*$E11) | J11: =IF($B11="","",$I11-$H11) | K11: 210 | L11: =IF(OR($B11="",$K11=0,$K11=""),"",$J11/$K11) | M11: Breakout | N11: Stopped out | O11: Sized too large, stopped past the level
I12: =IF($B12="","",IF($C12="Short",($F12-$G12),($G12-$F12))*$D12*$E12) | J12: =IF($B12="","",$I12-$H12) | L12: =IF(OR($B12="",$K12=0,$K12=""),"",$J12/$K12)
I13: =IF($B13="","",IF($C13="Short",($F13-$G13),($G13-$F13))*$D13*$E13) | J13: =IF($B13="","",$I13-$H13) | L13: =IF(OR($B13="",$K13=0,$K13=""),"",$J13/$K13)
I14: =IF($B14="","",IF($C14="Short",($F14-$G14),($G14-$F14))*$D14*$E14) | J14: =IF($B14="","",$I14-$H14) | L14: =IF(OR($B14="",$K14=0,$K14=""),"",$J14/$K14)
I15: =IF($B15="","",IF($C15="Short",($F15-$G15),($G15-$F15))*$D15*$E15) | J15: =IF($B15="","",$I15-$H15) | L15: =IF(OR($B15="",$K15=0,$K15=""),"",$J15/$K15)
I16: =IF($B16="","",IF($C16="Short",($F16-$G16),($G16-$F16))*$D16*$E16) | J16: =IF($B16="","",$I16-$H16) | L16: =IF(OR($B16="",$K16=0,$K16=""),"",$J16/$K16)
I17: =IF($B17="","",IF($C17="Short",($F17-$G17),($G17-$F17))*$D17*$E17) | J17: =IF($B17="","",$I17-$H17) | L17: =IF(OR($B17="",$K17=0,$K17=""),"",$J17/$K17)
I18: =IF($B18="","",IF($C18="Short",($F18-$G18),($G18-$F18))*$D18*$E18) | J18: =IF($B18="","",$I18-$H18) | L18: =IF(OR($B18="",$K18=0,$K18=""),"",$J18/$K18)
I19: =IF($B19="","",IF($C19="Short",($F19-$G19),($G19-$F19))*$D19*$E19) | J19: =IF($B19="","",$I19-$H19) | L19: =IF(OR($B19="",$K19=0,$K19=""),"",$J19/$K19)
I20: =IF($B20="","",IF($C20="Short",($F20-$G20),($G20-$F20))*$D20*$E20) | J20: =IF($B20="","",$I20-$H20) | L20: =IF(OR($B20="",$K20=0,$K20=""),"",$J20/$K20)
I21: =IF($B21="","",IF($C21="Short",($F21-$G21),($G21-$F21))*$D21*$E21) | J21: =IF($B21="","",$I21-$H21) | L21: =IF(OR($B21="",$K21=0,$K21=""),"",$J21/$K21)
I22: =IF($B22="","",IF($C22="Short",($F22-$G22),($G22-$F22))*$D22*$E22) | J22: =IF($B22="","",$I22-$H22) | L22: =IF(OR($B22="",$K22=0,$K22=""),"",$J22/$K22)
I23: =IF($B23="","",IF($C23="Short",($F23-$G23),($G23-$F23))*$D23*$E23) | J23: =IF($B23="","",$I23-$H23) | L23: =IF(OR($B23="",$K23=0,$K23=""),"",$J23/$K23)
... I201: =IF($B201="","",IF($C201="Short",($F201-$G201),($G201-$F201))*$D201*$E201) | J201: =IF($B201="","",$I201-$H201) | L201: =IF(OR($B201="",$K201=0,$K201=""),"",$J201/$K201)

Sheet Summary
A1: Measure | B1: Value
A2: Trades closed | B2: =COUNT(Trades!$J$2:$J$201)
A3: Wins | B3: =COUNTIF(Trades!$J$2:$J$201,">0")
A4: Losses | B4: =COUNTIF(Trades!$J$2:$J$201,"<0")
A5: Win rate | B5: =IFERROR($B$3/$B$2,"")
A6: Net P&L | B6: =SUM(Trades!$J$2:$J$201)
A7: Average win | B7: =IFERROR(AVERAGEIF(Trades!$J$2:$J$201,">0"),"")
A8: Average loss | B8: =IFERROR(AVERAGEIF(Trades!$J$2:$J$201,"<0"),"")
A9: Average win / average loss | B9: =IFERROR($B$7/ABS($B$8),"")
A10: Profit factor | B10: =IFERROR(SUMIF(Trades!$J$2:$J$201,">0")/ABS(SUMIF(Trades!$J$2:$J$201,"<0")),"")
A11: Expectancy per trade | B11: =IFERROR($B$6/$B$2,"")
A12: Average R | B12: =IFERROR(AVERAGE(Trades!$L$2:$L$201),"")
A13: Fees paid | B13: =SUM(Trades!$H$2:$H$201)
A15: By setup
A16: Setup | B16: Net P&L | C16: Trades | D16: Win rate
A17: Breakout | B17: =IF($A17="","",SUMIF(Trades!$M$2:$M$201,$A17,Trades!$J$2:$J$201)) | C17: =IF($A17="","",COUNTIF(Trades!$M$2:$M$201,$A17)) | D17: =IF(OR($A17="",COUNTIF(Trades!$M$2:$M$201,$A17)=0),"",COUNTIFS(Trades!$M$2:$M$201,$A17,Trades!$J$2:$J$201,">0")/COUNTIF(Trades!$M$2:$M$201,$A17))
A18: Fade | B18: =IF($A18="","",SUMIF(Trades!$M$2:$M$201,$A18,Trades!$J$2:$J$201)) | C18: =IF($A18="","",COUNTIF(Trades!$M$2:$M$201,$A18)) | D18: =IF(OR($A18="",COUNTIF(Trades!$M$2:$M$201,$A18)=0),"",COUNTIFS(Trades!$M$2:$M$201,$A18,Trades!$J$2:$J$201,">0")/COUNTIF(Trades!$M$2:$M$201,$A18))
B19: =IF($A19="","",SUMIF(Trades!$M$2:$M$201,$A19,Trades!$J$2:$J$201)) | C19: =IF($A19="","",COUNTIF(Trades!$M$2:$M$201,$A19)) | D19: =IF(OR($A19="",COUNTIF(Trades!$M$2:$M$201,$A19)=0),"",COUNTIFS(Trades!$M$2:$M$201,$A19,Trades!$J$2:$J$201,">0")/COUNTIF(Trades!$M$2:$M$201,$A19))
B20: =IF($A20="","",SUMIF(Trades!$M$2:$M$201,$A20,Trades!$J$2:$J$201)) | C20: =IF($A20="","",COUNTIF(Trades!$M$2:$M$201,$A20)) | D20: =IF(OR($A20="",COUNTIF(Trades!$M$2:$M$201,$A20)=0),"",COUNTIFS(Trades!$M$2:$M$201,$A20,Trades!$J$2:$J$201,">0")/COUNTIF(Trades!$M$2:$M$201,$A20))
B21: =IF($A21="","",SUMIF(Trades!$M$2:$M$201,$A21,Trades!$J$2:$J$201)) | C21: =IF($A21="","",COUNTIF(Trades!$M$2:$M$201,$A21)) | D21: =IF(OR($A21="",COUNTIF(Trades!$M$2:$M$201,$A21)=0),"",COUNTIFS(Trades!$M$2:$M$201,$A21,Trades!$J$2:$J$201,">0")/COUNTIF(Trades!$M$2:$M$201,$A21))
B22: =IF($A22="","",SUMIF(Trades!$M$2:$M$201,$A22,Trades!$J$2:$J$201)) | C22: =IF($A22="","",COUNTIF(Trades!$M$2:$M$201,$A22)) | D22: =IF(OR($A22="",COUNTIF(Trades!$M$2:$M$201,$A22)=0),"",COUNTIFS(Trades!$M$2:$M$201,$A22,Trades!$J$2:$J$201,">0")/COUNTIF(Trades!$M$2:$M$201,$A22))
A24: Type your own setup names in column A. Every figure recalculates.
A25: Risk is typed, not derived: only you know where the stop was. Leave it blank and R stays blank.
A26: Free template from TickerReplay: https://tickerreplay.com/templates/excel-trading-journal
